BEGIN:VCALENDAR
VERSION:2.0
PRODID:-//WB Parks - ECPv6.15.18//NONSGML v1.0//EN
CALSCALE:GREGORIAN
METHOD:PUBLISH
X-WR-CALNAME:WB Parks
X-ORIGINAL-URL:https://www.wbparks.org
X-WR-CALDESC:Events for WB Parks
REFRESH-INTERVAL;VALUE=DURATION:PT1H
X-Robots-Tag:noindex
X-PUBLISHED-TTL:PT1H
BEGIN:VTIMEZONE
TZID:America/New_York
BEGIN:DAYLIGHT
TZOFFSETFROM:-0500
TZOFFSETTO:-0400
TZNAME:EDT
DTSTART:20250309T070000
END:DAYLIGHT
BEGIN:STANDARD
TZOFFSETFROM:-0400
TZOFFSETTO:-0500
TZNAME:EST
DTSTART:20251102T060000
END:STANDARD
BEGIN:DAYLIGHT
TZOFFSETFROM:-0500
TZOFFSETTO:-0400
TZNAME:EDT
DTSTART:20260308T070000
END:DAYLIGHT
BEGIN:STANDARD
TZOFFSETFROM:-0400
TZOFFSETTO:-0500
TZNAME:EST
DTSTART:20261101T060000
END:STANDARD
BEGIN:DAYLIGHT
TZOFFSETFROM:-0500
TZOFFSETTO:-0400
TZNAME:EDT
DTSTART:20270314T070000
END:DAYLIGHT
BEGIN:STANDARD
TZOFFSETFROM:-0400
TZOFFSETTO:-0500
TZNAME:EST
DTSTART:20271107T060000
END:STANDARD
END:VTIMEZONE
BEGIN:VEVENT
DTSTART;TZID=America/New_York:20260707T113000
DTEND;TZID=America/New_York:20260707T133000
DTSTAMP:20260419T105415
CREATED:20250331T132812Z
LAST-MODIFIED:20260323T181604Z
UID:10000649-1783423800-1783431000@www.wbparks.org
SUMMARY:Food Truck Tuesdays
DESCRIPTION:
URL:https://www.wbparks.org/event/food-truck-tuesdays-2/2026-07-07/
LOCATION:Recreation Activities Center\, 4640 Walnut Lake Rd\, West Bloomfield Township\, MI\, 48323\, United States
CATEGORIES:Featured,Family,Adult
ATTACH;FMTTYPE=image/png:https://www.wbparks.org/wp-content/uploads/2025/03/Screenshot-2026-03-17-135336.png
END:VEVENT
BEGIN:VEVENT
DTSTART;TZID=America/New_York:20260714T113000
DTEND;TZID=America/New_York:20260714T133000
DTSTAMP:20260419T105415
CREATED:20250331T132812Z
LAST-MODIFIED:20260323T181604Z
UID:10000650-1784028600-1784035800@www.wbparks.org
SUMMARY:Food Truck Tuesdays
DESCRIPTION:
URL:https://www.wbparks.org/event/food-truck-tuesdays-2/2026-07-14/
LOCATION:Recreation Activities Center\, 4640 Walnut Lake Rd\, West Bloomfield Township\, MI\, 48323\, United States
CATEGORIES:Featured,Family,Adult
ATTACH;FMTTYPE=image/png:https://www.wbparks.org/wp-content/uploads/2025/03/Screenshot-2026-03-17-135336.png
END:VEVENT
BEGIN:VEVENT
DTSTART;TZID=America/New_York:20260715T100000
DTEND;TZID=America/New_York:20260715T113000
DTSTAMP:20260419T105415
CREATED:20241119T145821Z
LAST-MODIFIED:20260323T151450Z
UID:10000436-1784109600-1784115000@www.wbparks.org
SUMMARY:SRG Talk Time - SummerSmart: Be Safe - Stay Connected
DESCRIPTION:
URL:https://www.wbparks.org/event/srg-talk-time-6/
LOCATION:Connect Senior Center\, 33230 W 14 Mile Rd\, West Bloomfield
CATEGORIES:Featured,Seniors
ATTACH;FMTTYPE=image/jpeg:https://www.wbparks.org/wp-content/uploads/2023/11/IMG_0192-1.jpg
END:VEVENT
BEGIN:VEVENT
DTSTART;TZID=America/New_York:20260720T113000
DTEND;TZID=America/New_York:20260720T143000
DTSTAMP:20260419T105415
CREATED:20260326T161258Z
LAST-MODIFIED:20260326T161258Z
UID:10000669-1784547000-1784557800@www.wbparks.org
SUMMARY:Monday Micro Nature Momements
DESCRIPTION:
URL:https://www.wbparks.org/event/monday-micro-nature-momements/2026-07-20/
LOCATION:Marshbank Park\, 2805 Hiller Rd\, West Bloomfield Township\, MI\, 48324\, United States
CATEGORIES:Family
ATTACH;FMTTYPE=image/jpeg:https://www.wbparks.org/wp-content/uploads/2026/03/IMG-3557.jpg
END:VEVENT
BEGIN:VEVENT
DTSTART;TZID=America/New_York:20260721T113000
DTEND;TZID=America/New_York:20260721T133000
DTSTAMP:20260419T105415
CREATED:20250331T132812Z
LAST-MODIFIED:20260323T181604Z
UID:10000651-1784633400-1784640600@www.wbparks.org
SUMMARY:Food Truck Tuesdays
DESCRIPTION:
URL:https://www.wbparks.org/event/food-truck-tuesdays-2/2026-07-21/
LOCATION:Recreation Activities Center\, 4640 Walnut Lake Rd\, West Bloomfield Township\, MI\, 48323\, United States
CATEGORIES:Featured,Family,Adult
ATTACH;FMTTYPE=image/png:https://www.wbparks.org/wp-content/uploads/2025/03/Screenshot-2026-03-17-135336.png
END:VEVENT
BEGIN:VEVENT
DTSTART;TZID=America/New_York:20260728T113000
DTEND;TZID=America/New_York:20260728T133000
DTSTAMP:20260419T105415
CREATED:20250331T132812Z
LAST-MODIFIED:20260323T181604Z
UID:10000652-1785238200-1785245400@www.wbparks.org
SUMMARY:Food Truck Tuesdays
DESCRIPTION:
URL:https://www.wbparks.org/event/food-truck-tuesdays-2/2026-07-28/
LOCATION:Recreation Activities Center\, 4640 Walnut Lake Rd\, West Bloomfield Township\, MI\, 48323\, United States
CATEGORIES:Featured,Family,Adult
ATTACH;FMTTYPE=image/png:https://www.wbparks.org/wp-content/uploads/2025/03/Screenshot-2026-03-17-135336.png
END:VEVENT
BEGIN:VEVENT
DTSTART;TZID=America/New_York:20260803T140000
DTEND;TZID=America/New_York:20260803T153000
DTSTAMP:20260419T105415
CREATED:20230309T162913Z
LAST-MODIFIED:20260326T153926Z
UID:10000138-1785765600-1785771000@www.wbparks.org
SUMMARY:Connect Member Programs- Ice Cream Floats
DESCRIPTION:
URL:https://www.wbparks.org/event/ice-cream-floats/
LOCATION:Connect Senior Center\, 33230 W 14 Mile Rd\, West Bloomfield
CATEGORIES:Featured,Seniors
ATTACH;FMTTYPE=image/jpeg:https://www.wbparks.org/wp-content/uploads/2023/03/IMG_0898-Copy-2.jpg
END:VEVENT
BEGIN:VEVENT
DTSTART;TZID=America/New_York:20260804T113000
DTEND;TZID=America/New_York:20260804T133000
DTSTAMP:20260419T105415
CREATED:20250331T132812Z
LAST-MODIFIED:20260323T181604Z
UID:10000653-1785843000-1785850200@www.wbparks.org
SUMMARY:Food Truck Tuesdays
DESCRIPTION:
URL:https://www.wbparks.org/event/food-truck-tuesdays-2/2026-08-04/
LOCATION:Recreation Activities Center\, 4640 Walnut Lake Rd\, West Bloomfield Township\, MI\, 48323\, United States
CATEGORIES:Featured,Family,Adult
ATTACH;FMTTYPE=image/png:https://www.wbparks.org/wp-content/uploads/2025/03/Screenshot-2026-03-17-135336.png
END:VEVENT
BEGIN:VEVENT
DTSTART;TZID=America/New_York:20260805T173000
DTEND;TZID=America/New_York:20260805T203000
DTSTAMP:20260419T105415
CREATED:20230307T210253Z
LAST-MODIFIED:20260323T181721Z
UID:10000021-1785951000-1785961800@www.wbparks.org
SUMMARY:Marshbank Music Series-Infinity and Beyond: A Journey Tribute
DESCRIPTION:
URL:https://www.wbparks.org/event/marshbank-music-2/
LOCATION:Marshbank Park\, 2805 Hiller Rd\, West Bloomfield Township\, MI\, 48324\, United States
CATEGORIES:Featured,Adult
ATTACH;FMTTYPE=image/jpeg:https://www.wbparks.org/wp-content/uploads/2023/01/June-MM-8-Edited-with-Lightroom.jpg
END:VEVENT
BEGIN:VEVENT
DTSTART;TZID=America/New_York:20260806T103000
DTEND;TZID=America/New_York:20260806T113000
DTSTAMP:20260419T105415
CREATED:20231130T185723Z
LAST-MODIFIED:20260326T160643Z
UID:10000249-1786012200-1786015800@www.wbparks.org
SUMMARY:Little Hikers-August
DESCRIPTION:
URL:https://www.wbparks.org/event/little-hikers-august/
LOCATION:Recreation Activities Center\, 4640 Walnut Lake Rd\, West Bloomfield Township\, MI\, 48323\, United States
CATEGORIES:Featured,Family
ATTACH;FMTTYPE=image/jpeg:https://www.wbparks.org/wp-content/uploads/2023/11/IMG_6824-2.jpg
END:VEVENT
BEGIN:VEVENT
DTSTART;TZID=America/New_York:20260811T113000
DTEND;TZID=America/New_York:20260811T133000
DTSTAMP:20260419T105415
CREATED:20250331T132812Z
LAST-MODIFIED:20260323T181604Z
UID:10000654-1786447800-1786455000@www.wbparks.org
SUMMARY:Food Truck Tuesdays
DESCRIPTION:
URL:https://www.wbparks.org/event/food-truck-tuesdays-2/2026-08-11/
LOCATION:Recreation Activities Center\, 4640 Walnut Lake Rd\, West Bloomfield Township\, MI\, 48323\, United States
CATEGORIES:Featured,Family,Adult
ATTACH;FMTTYPE=image/png:https://www.wbparks.org/wp-content/uploads/2025/03/Screenshot-2026-03-17-135336.png
END:VEVENT
BEGIN:VEVENT
DTSTART;TZID=America/New_York:20260811T183000
DTEND;TZID=America/New_York:20260811T193000
DTSTAMP:20260419T105415
CREATED:20231129T180128Z
LAST-MODIFIED:20260326T160134Z
UID:10000245-1786473000-1786476600@www.wbparks.org
SUMMARY:Live Animal Show: The Reptarium
DESCRIPTION:
URL:https://www.wbparks.org/event/live-animal-show-the-reptarium/
LOCATION:Marshbank Park\, 2805 Hiller Rd\, West Bloomfield Township\, MI\, 48324\, United States
CATEGORIES:Family
ATTACH;FMTTYPE=image/jpeg:https://www.wbparks.org/wp-content/uploads/2023/11/Snake-1.jpg
END:VEVENT
BEGIN:VEVENT
DTSTART;TZID=America/New_York:20260811T183000
DTEND;TZID=America/New_York:20260811T193000
DTSTAMP:20260419T105415
CREATED:20260326T160117Z
LAST-MODIFIED:20260326T160117Z
UID:10000664-1786473000-1786476600@www.wbparks.org
SUMMARY:Live Animal Show: Creature Feature
DESCRIPTION:
URL:https://www.wbparks.org/event/live-animal-show-creature-feature/
LOCATION:Marshbank Park\, 2805 Hiller Rd\, West Bloomfield Township\, MI\, 48324\, United States
CATEGORIES:Family
ATTACH;FMTTYPE=image/jpeg:https://www.wbparks.org/wp-content/uploads/2026/03/Camp-WB-5-e1774540871519.jpg
END:VEVENT
BEGIN:VEVENT
DTSTART;TZID=America/New_York:20260812T173000
DTEND;TZID=America/New_York:20260812T203000
DTSTAMP:20260419T105415
CREATED:20240710T141503Z
LAST-MODIFIED:20260323T181735Z
UID:10000358-1786555800-1786566600@www.wbparks.org
SUMMARY:Marshbank Music Series-Lost West: Rock & Country
DESCRIPTION:
URL:https://www.wbparks.org/event/marshbank-music-series-3/
LOCATION:Marshbank Park\, 2805 Hiller Rd\, West Bloomfield Township\, MI\, 48324\, United States
CATEGORIES:Featured,Adult
ATTACH;FMTTYPE=image/jpeg:https://www.wbparks.org/wp-content/uploads/2023/01/June-MM-8-Edited-with-Lightroom.jpg
END:VEVENT
BEGIN:VEVENT
DTSTART;TZID=America/New_York:20260817T113000
DTEND;TZID=America/New_York:20260817T143000
DTSTAMP:20260419T105415
CREATED:20260326T161258Z
LAST-MODIFIED:20260326T161258Z
UID:10000670-1786966200-1786977000@www.wbparks.org
SUMMARY:Monday Micro Nature Momements
DESCRIPTION:
URL:https://www.wbparks.org/event/monday-micro-nature-momements/2026-08-17/
LOCATION:Marshbank Park\, 2805 Hiller Rd\, West Bloomfield Township\, MI\, 48324\, United States
CATEGORIES:Family
ATTACH;FMTTYPE=image/jpeg:https://www.wbparks.org/wp-content/uploads/2026/03/IMG-3557.jpg
END:VEVENT
BEGIN:VEVENT
DTSTART;TZID=America/New_York:20260818T113000
DTEND;TZID=America/New_York:20260818T133000
DTSTAMP:20260419T105415
CREATED:20250331T132812Z
LAST-MODIFIED:20260323T181604Z
UID:10000655-1787052600-1787059800@www.wbparks.org
SUMMARY:Food Truck Tuesdays
DESCRIPTION:
URL:https://www.wbparks.org/event/food-truck-tuesdays-2/2026-08-18/
LOCATION:Recreation Activities Center\, 4640 Walnut Lake Rd\, West Bloomfield Township\, MI\, 48323\, United States
CATEGORIES:Featured,Family,Adult
ATTACH;FMTTYPE=image/png:https://www.wbparks.org/wp-content/uploads/2025/03/Screenshot-2026-03-17-135336.png
END:VEVENT
BEGIN:VEVENT
DTSTART;TZID=America/New_York:20260819T100000
DTEND;TZID=America/New_York:20260819T113000
DTSTAMP:20260419T105415
CREATED:20240404T124406Z
LAST-MODIFIED:20260323T151603Z
UID:10000346-1787133600-1787139000@www.wbparks.org
SUMMARY:SRG Talk Time - August Advantage: Community\, Immunity & Consumer Truths
DESCRIPTION:
URL:https://www.wbparks.org/event/srg-talk-time-2/
LOCATION:Connect Senior Center\, 33230 W 14 Mile Rd\, West Bloomfield
CATEGORIES:Featured,Seniors
ATTACH;FMTTYPE=image/jpeg:https://www.wbparks.org/wp-content/uploads/2023/11/IMG_0192-1.jpg
END:VEVENT
BEGIN:VEVENT
DTSTART;TZID=America/New_York:20260819T173000
DTEND;TZID=America/New_York:20260819T203000
DTSTAMP:20260419T105415
CREATED:20230307T210104Z
LAST-MODIFIED:20260323T181749Z
UID:10000019-1787160600-1787171400@www.wbparks.org
SUMMARY:Marshbank Music Series-Klay N’ The Mud: Pop Rock
DESCRIPTION:
URL:https://www.wbparks.org/event/marshbank-music-4/
LOCATION:Marshbank Park\, 2805 Hiller Rd\, West Bloomfield Township\, MI\, 48324\, United States
CATEGORIES:Featured,Adult
ATTACH;FMTTYPE=image/jpeg:https://www.wbparks.org/wp-content/uploads/2023/01/June-MM-8-Edited-with-Lightroom.jpg
END:VEVENT
BEGIN:VEVENT
DTSTART;TZID=America/New_York:20260820T100000
DTEND;TZID=America/New_York:20260820T120000
DTSTAMP:20260419T105415
CREATED:20250324T153006Z
LAST-MODIFIED:20260417T182852Z
UID:10000509-1787220000-1787227200@www.wbparks.org
SUMMARY:Kids Komotion Concerts-BenJammin
DESCRIPTION:
URL:https://www.wbparks.org/event/kids-komotion-concerts-3/
LOCATION:Marshbank Park\, 2805 Hiller Rd\, West Bloomfield Township\, MI\, 48324\, United States
CATEGORIES:Featured,Family
ATTACH;FMTTYPE=image/jpeg:https://www.wbparks.org/wp-content/uploads/2024/03/Kids-Kom-4.jpg
END:VEVENT
BEGIN:VEVENT
DTSTART;TZID=America/New_York:20260822T100000
DTEND;TZID=America/New_York:20260822T120000
DTSTAMP:20260419T105415
CREATED:20230130T155704Z
LAST-MODIFIED:20260326T135024Z
UID:10000023-1787392800-1787400000@www.wbparks.org
SUMMARY:Bees\, Butterflies & Blooms: Pollinator Festival
DESCRIPTION:
URL:https://www.wbparks.org/event/pollinator-festival/
LOCATION:Marshbank Park\, 2805 Hiller Rd\, West Bloomfield Township\, MI\, 48324\, United States
CATEGORIES:Featured,Family
ATTACH;FMTTYPE=image/jpeg:https://www.wbparks.org/wp-content/uploads/2023/01/Pollinator.jpg
END:VEVENT
BEGIN:VEVENT
DTSTART;TZID=America/New_York:20260825T113000
DTEND;TZID=America/New_York:20260825T133000
DTSTAMP:20260419T105415
CREATED:20250331T132812Z
LAST-MODIFIED:20260323T181604Z
UID:10000656-1787657400-1787664600@www.wbparks.org
SUMMARY:Food Truck Tuesdays
DESCRIPTION:
URL:https://www.wbparks.org/event/food-truck-tuesdays-2/2026-08-25/
LOCATION:Recreation Activities Center\, 4640 Walnut Lake Rd\, West Bloomfield Township\, MI\, 48323\, United States
CATEGORIES:Featured,Family,Adult
ATTACH;FMTTYPE=image/png:https://www.wbparks.org/wp-content/uploads/2025/03/Screenshot-2026-03-17-135336.png
END:VEVENT
BEGIN:VEVENT
DTSTART;TZID=America/New_York:20260826T173000
DTEND;TZID=America/New_York:20260826T203000
DTSTAMP:20260419T105415
CREATED:20230307T210202Z
LAST-MODIFIED:20260323T181801Z
UID:10000020-1787765400-1787776200@www.wbparks.org
SUMMARY:Marshbank Music Series-Mainstreet Soul: Top 40 Hits
DESCRIPTION:
URL:https://www.wbparks.org/event/marshbank-music-1/
LOCATION:Marshbank Park\, 2805 Hiller Rd\, West Bloomfield Township\, MI\, 48324\, United States
CATEGORIES:Featured,Adult
ATTACH;FMTTYPE=image/jpeg:https://www.wbparks.org/wp-content/uploads/2023/01/June-MM-8-Edited-with-Lightroom.jpg
END:VEVENT
BEGIN:VEVENT
DTSTART;TZID=America/New_York:20260901T113000
DTEND;TZID=America/New_York:20260901T133000
DTSTAMP:20260419T105415
CREATED:20250331T132812Z
LAST-MODIFIED:20260323T181604Z
UID:10000657-1788262200-1788269400@www.wbparks.org
SUMMARY:Food Truck Tuesdays
DESCRIPTION:
URL:https://www.wbparks.org/event/food-truck-tuesdays-2/2026-09-01/
LOCATION:Recreation Activities Center\, 4640 Walnut Lake Rd\, West Bloomfield Township\, MI\, 48323\, United States
CATEGORIES:Featured,Family,Adult
ATTACH;FMTTYPE=image/png:https://www.wbparks.org/wp-content/uploads/2025/03/Screenshot-2026-03-17-135336.png
END:VEVENT
BEGIN:VEVENT
DTSTART;TZID=America/New_York:20260908T113000
DTEND;TZID=America/New_York:20260908T133000
DTSTAMP:20260419T105415
CREATED:20250331T132812Z
LAST-MODIFIED:20260323T181604Z
UID:10000658-1788867000-1788874200@www.wbparks.org
SUMMARY:Food Truck Tuesdays
DESCRIPTION:
URL:https://www.wbparks.org/event/food-truck-tuesdays-2/2026-09-08/
LOCATION:Recreation Activities Center\, 4640 Walnut Lake Rd\, West Bloomfield Township\, MI\, 48323\, United States
CATEGORIES:Featured,Family,Adult
ATTACH;FMTTYPE=image/png:https://www.wbparks.org/wp-content/uploads/2025/03/Screenshot-2026-03-17-135336.png
END:VEVENT
BEGIN:VEVENT
DTSTART;TZID=America/New_York:20260915T113000
DTEND;TZID=America/New_York:20260915T133000
DTSTAMP:20260419T105415
CREATED:20250331T132812Z
LAST-MODIFIED:20260323T181604Z
UID:10000659-1789471800-1789479000@www.wbparks.org
SUMMARY:Food Truck Tuesdays
DESCRIPTION:
URL:https://www.wbparks.org/event/food-truck-tuesdays-2/2026-09-15/
LOCATION:Recreation Activities Center\, 4640 Walnut Lake Rd\, West Bloomfield Township\, MI\, 48323\, United States
CATEGORIES:Featured,Family,Adult
ATTACH;FMTTYPE=image/png:https://www.wbparks.org/wp-content/uploads/2025/03/Screenshot-2026-03-17-135336.png
END:VEVENT
BEGIN:VEVENT
DTSTART;TZID=America/New_York:20260922T113000
DTEND;TZID=America/New_York:20260922T133000
DTSTAMP:20260419T105415
CREATED:20250331T132812Z
LAST-MODIFIED:20260323T181604Z
UID:10000660-1790076600-1790083800@www.wbparks.org
SUMMARY:Food Truck Tuesdays
DESCRIPTION:
URL:https://www.wbparks.org/event/food-truck-tuesdays-2/2026-09-22/
LOCATION:Recreation Activities Center\, 4640 Walnut Lake Rd\, West Bloomfield Township\, MI\, 48323\, United States
CATEGORIES:Featured,Family,Adult
ATTACH;FMTTYPE=image/png:https://www.wbparks.org/wp-content/uploads/2025/03/Screenshot-2026-03-17-135336.png
END:VEVENT
BEGIN:VEVENT
DTSTART;TZID=America/New_York:20260929T113000
DTEND;TZID=America/New_York:20260929T133000
DTSTAMP:20260419T105415
CREATED:20250331T132812Z
LAST-MODIFIED:20260323T181604Z
UID:10000661-1790681400-1790688600@www.wbparks.org
SUMMARY:Food Truck Tuesdays
DESCRIPTION:
URL:https://www.wbparks.org/event/food-truck-tuesdays-2/2026-09-29/
LOCATION:Recreation Activities Center\, 4640 Walnut Lake Rd\, West Bloomfield Township\, MI\, 48323\, United States
CATEGORIES:Featured,Family,Adult
ATTACH;FMTTYPE=image/png:https://www.wbparks.org/wp-content/uploads/2025/03/Screenshot-2026-03-17-135336.png
END:VEVENT
END:VCALENDAR